BEGIN:VCALENDAR
VERSION:2.0
PRODID:SchoolNow
CALSCALE:GREGORIAN
BEGIN:VEVENT
UID:41f881b8-1894-11f1-afa9-0e0a57487257
DTSTAMP:20260420T220507Z
SUMMARY:Student Holiday/Teacher Workday
URL;VALUE=URI:https://www.colquitt.k12.ga.us/schools/odom/calendar/8893068/
 student-holiday-teacher-workday
DTSTART;VALUE=DATE:20270104
DTEND;VALUE=DATE:20270105
END:VEVENT
END:VCALENDAR
