BEGIN:VCALENDAR
VERSION:2.0
PRODID:SchoolNow
CALSCALE:GREGORIAN
BEGIN:VEVENT
UID:41f880dc-1894-11f1-b64d-0e0a57487257
DTSTAMP:20260420T160012Z
SUMMARY:First Day of School
URL;VALUE=URI:https://www.colquitt.k12.ga.us/schools/odom/calendar/8893067/
 first-day-of-school
DTSTART;VALUE=DATE:20260805
DTEND;VALUE=DATE:20260806
END:VEVENT
END:VCALENDAR
