BEGIN:VCALENDAR
VERSION:2.0
PRODID:SchoolNow
CALSCALE:GREGORIAN
BEGIN:VEVENT
UID:41f88000-1894-11f1-94d1-0e0a57487257
DTSTAMP:20260420T095507Z
SUMMARY:100th Day of School
URL;VALUE=URI:https://www.colquitt.k12.ga.us/schools/odom/calendar/8893066/
 100th-day-of-school
DTSTART;VALUE=DATE:20260116
DTEND;VALUE=DATE:20260117
END:VEVENT
END:VCALENDAR
