BEGIN:VCALENDAR
VERSION:2.0
PRODID:SchoolNow
CALSCALE:GREGORIAN
BEGIN:VEVENT
UID:41f87f10-1894-11f1-95c9-0e0a57487257
DTSTAMP:20260420T095507Z
SUMMARY:Kona Ice
URL;VALUE=URI:https://www.colquitt.k12.ga.us/schools/odom/calendar/8893065/
 kona-ice
DTSTART:20260306T160000Z
DTEND:20260306T183000Z
END:VEVENT
END:VCALENDAR
