BEGIN:VCALENDAR
VERSION:2.0
PRODID:SchoolNow
CALSCALE:GREGORIAN
BEGIN:VEVENT
UID:41f87e0c-1894-11f1-8c4c-0e0a57487257
DTSTAMP:20260420T220507Z
SUMMARY:Spring Book Fair
URL;VALUE=URI:https://www.colquitt.k12.ga.us/schools/odom/calendar/8893064/
 spring-book-fair
DTSTART;VALUE=DATE:20270222
DTEND;VALUE=DATE:20270227
END:VEVENT
END:VCALENDAR
