BEGIN:VCALENDAR
VERSION:2.0
PRODID:SchoolNow
CALSCALE:GREGORIAN
BEGIN:VEVENT
UID:41f87d30-1894-11f1-9d64-0e0a57487257
DTSTAMP:20260420T095507Z
SUMMARY:District Spelling Bee
URL;VALUE=URI:https://www.colquitt.k12.ga.us/schools/odom/calendar/8893063/
 district-spelling-bee
DTSTART:20260128T140000Z
DTEND:20260128T150000Z
END:VEVENT
END:VCALENDAR
