BEGIN:VCALENDAR
VERSION:2.0
PRODID:SchoolNow
CALSCALE:GREGORIAN
BEGIN:VEVENT
UID:41f87c54-1894-11f1-8a21-0e0a57487257
DTSTAMP:20260420T095507Z
SUMMARY:Teacher Workday
URL;VALUE=URI:https://www.colquitt.k12.ga.us/schools/odom/calendar/8893062/
 teacher-workday
DTSTART;VALUE=DATE:20260729
DTEND;VALUE=DATE:20260730
END:VEVENT
END:VCALENDAR
