BEGIN:VCALENDAR
VERSION:2.0
PRODID:SchoolNow
CALSCALE:GREGORIAN
BEGIN:VEVENT
UID:41f87b82-1894-11f1-aca0-0e0a57487257
DTSTAMP:20260420T095507Z
SUMMARY:Honors Day 1st-3rd Grades
URL;VALUE=URI:https://www.colquitt.k12.ga.us/schools/odom/calendar/8893061/
 honors-day-1st-3rd-grades
DTSTART:20260109T144500Z
DTEND:20260109T160000Z
END:VEVENT
END:VCALENDAR
