BEGIN:VCALENDAR
VERSION:2.0
PRODID:SchoolNow
CALSCALE:GREGORIAN
BEGIN:VEVENT
UID:41f87790-1894-11f1-8b2b-0e0a57487257
DTSTAMP:20260420T160012Z
SUMMARY:Thanksgiving Holidays (All Schools & Offices Closed)
URL;VALUE=URI:https://www.colquitt.k12.ga.us/schools/odom/calendar/8893057/
 thanksgiving-holidays-all-schools-offices-closed
DTSTART;VALUE=DATE:20261123
DTEND;VALUE=DATE:20261128
END:VEVENT
END:VCALENDAR
