BEGIN:VCALENDAR
VERSION:2.0
PRODID:SchoolNow
CALSCALE:GREGORIAN
BEGIN:VEVENT
UID:41f872ae-1894-11f1-9205-0e0a57487257
DTSTAMP:20260420T220507Z
SUMMARY:President's Day - Holiday (All Schools & Offices Closed)
URL;VALUE=URI:https://www.colquitt.k12.ga.us/schools/odom/calendar/8893053/
 presidents-day-holiday-all-schools-offices-closed
DTSTART;VALUE=DATE:20270215
DTEND;VALUE=DATE:20270216
END:VEVENT
END:VCALENDAR
