BEGIN:VCALENDAR
VERSION:2.0
PRODID:SchoolNow
CALSCALE:GREGORIAN
BEGIN:VEVENT
UID:41f8713c-1894-11f1-9352-0e0a57487257
DTSTAMP:20260420T095507Z
SUMMARY:Teacher Workday
URL;VALUE=URI:https://www.colquitt.k12.ga.us/schools/odom/calendar/8893052/
 teacher-workday
DTSTART;VALUE=DATE:20260730
DTEND;VALUE=DATE:20260731
END:VEVENT
END:VCALENDAR
