BEGIN:VCALENDAR
VERSION:2.0
PRODID:SchoolNow
CALSCALE:GREGORIAN
BEGIN:VEVENT
UID:41f87056-1894-11f1-8199-0e0a57487257
DTSTAMP:20260420T220507Z
SUMMARY:Christmas Holidays (All Schools & Offices Closed)
URL;VALUE=URI:https://www.colquitt.k12.ga.us/schools/odom/calendar/8893051/
 christmas-holidays-all-schools-offices-closed
DTSTART;VALUE=DATE:20261221
DTEND;VALUE=DATE:20270102
END:VEVENT
END:VCALENDAR
