BEGIN:VCALENDAR
VERSION:2.0
PRODID:SchoolNow
CALSCALE:GREGORIAN
BEGIN:VEVENT
UID:41f86f66-1894-11f1-8261-0e0a57487257
DTSTAMP:20260421T041007Z
SUMMARY:Teacher Workday
URL;VALUE=URI:https://www.colquitt.k12.ga.us/schools/odom/calendar/8893050/
 teacher-workday
DTSTART;VALUE=DATE:20270525
DTEND;VALUE=DATE:20270526
END:VEVENT
END:VCALENDAR
