BEGIN:VCALENDAR
VERSION:2.0
PRODID:SchoolNow
CALSCALE:GREGORIAN
BEGIN:VEVENT
UID:41f86e1c-1894-11f1-8cc3-0e0a57487257
DTSTAMP:20260420T095507Z
SUMMARY:4th / 5th grade Dance
URL;VALUE=URI:https://www.colquitt.k12.ga.us/schools/odom/calendar/8893049/
 4th-5th-grade-dance
DTSTART:20260205T223000Z
DTEND:20260206T003000Z
END:VEVENT
END:VCALENDAR
