BEGIN:VCALENDAR
VERSION:2.0
PRODID:SchoolNow
CALSCALE:GREGORIAN
BEGIN:VEVENT
UID:41f86d0e-1894-11f1-9f66-0e0a57487257
DTSTAMP:20260420T160012Z
SUMMARY:Fall Break
URL;VALUE=URI:https://www.colquitt.k12.ga.us/schools/odom/calendar/8893048/
 fall-break
DTSTART;VALUE=DATE:20261023
DTEND;VALUE=DATE:20261027
END:VEVENT
END:VCALENDAR
