BEGIN:VCALENDAR
VERSION:2.0
PRODID:SchoolNow
CALSCALE:GREGORIAN
BEGIN:VEVENT
UID:41f86bc4-1894-11f1-92ff-0e0a57487257
DTSTAMP:20260420T160012Z
SUMMARY:Labor Day
URL;VALUE=URI:https://www.colquitt.k12.ga.us/schools/odom/calendar/8893047/
 labor-day
DTSTART;VALUE=DATE:20260907
DTEND;VALUE=DATE:20260908
END:VEVENT
END:VCALENDAR
