BEGIN:VCALENDAR
VERSION:2.0
PRODID:SchoolNow
CALSCALE:GREGORIAN
BEGIN:VEVENT
UID:41f86a8e-1894-11f1-be4c-0e0a57487257
DTSTAMP:20260420T095507Z
SUMMARY:Honors Day 4th & 5th Grades
URL;VALUE=URI:https://www.colquitt.k12.ga.us/schools/odom/calendar/8893046/
 honors-day-4th-5th-grades
DTSTART:20260109T180000Z
DTEND:20260109T193000Z
END:VEVENT
END:VCALENDAR
