BEGIN:VCALENDAR
VERSION:2.0
PRODID:SchoolNow
CALSCALE:GREGORIAN
BEGIN:VEVENT
UID:41f868ea-1894-11f1-8d2a-0e0a57487257
DTSTAMP:20260420T095507Z
SUMMARY:Snow Day
URL;VALUE=URI:https://www.colquitt.k12.ga.us/schools/odom/calendar/8893045/
 snow-day
DTSTART;VALUE=DATE:20260116
DTEND;VALUE=DATE:20260117
END:VEVENT
END:VCALENDAR
