BEGIN:VCALENDAR
VERSION:2.0
PRODID:SchoolNow
CALSCALE:GREGORIAN
BEGIN:VEVENT
UID:41f86570-1894-11f1-a878-0e0a57487257
DTSTAMP:20260421T041007Z
SUMMARY:Early Release Day/Last Day of School
URL;VALUE=URI:https://www.colquitt.k12.ga.us/schools/odom/calendar/8893044/
 early-release-day-last-day-of-school
DTSTART;VALUE=DATE:20270521
DTEND;VALUE=DATE:20270522
END:VEVENT
END:VCALENDAR
