BEGIN:VCALENDAR
VERSION:2.0
PRODID:SchoolNow
CALSCALE:GREGORIAN
BEGIN:VEVENT
UID:c2b04188-cfa1-11f0-abd9-0e60062d9b5f
DTSTAMP:20260420T160012Z
SUMMARY:Book Fair
URL;VALUE=URI:https://www.colquitt.k12.ga.us/schools/odom/calendar/8815602/
 book-fair
DTSTART;VALUE=DATE:20261116
DTEND;VALUE=DATE:20261121
END:VEVENT
END:VCALENDAR
