BEGIN:VCALENDAR
VERSION:2.0
PRODID:SchoolNow
CALSCALE:GREGORIAN
BEGIN:VEVENT
UID:5b59571e-b029-11f0-bd18-0ea9ff9373a9
DTSTAMP:20260420T095507Z
SUMMARY:5th Grade Game/Luncheon
URL;VALUE=URI:https://www.colquitt.k12.ga.us/schools/odom/calendar/8744843/
 5th-grade-game-luncheon
DTSTART;VALUE=DATE:20260515
DTEND;VALUE=DATE:20260516
END:VEVENT
END:VCALENDAR
