BEGIN:VCALENDAR
VERSION:2.0
PRODID:SchoolNow
CALSCALE:GREGORIAN
BEGIN:VEVENT
UID:5b595638-b029-11f0-9321-0ea9ff9373a9
DTSTAMP:20260420T095507Z
SUMMARY:Honors Day 4th-5th
URL;VALUE=URI:https://www.colquitt.k12.ga.us/schools/odom/calendar/8744842/
 honors-day-4th-5th
DTSTART;VALUE=DATE:20260520
DTEND;VALUE=DATE:20260521
END:VEVENT
END:VCALENDAR
