BEGIN:VCALENDAR
VERSION:2.0
PRODID:SchoolNow
CALSCALE:GREGORIAN
BEGIN:VEVENT
UID:5b59555c-b029-11f0-9816-0ea9ff9373a9
DTSTAMP:20260420T095507Z
SUMMARY:Honor's Day 1st -3rd
URL;VALUE=URI:https://www.colquitt.k12.ga.us/schools/odom/calendar/8744841/
 honors-day-1st-3rd
DTSTART;VALUE=DATE:20260519
DTEND;VALUE=DATE:20260520
END:VEVENT
END:VCALENDAR
