BEGIN:VCALENDAR
VERSION:2.0
PRODID:SchoolNow
CALSCALE:GREGORIAN
BEGIN:VEVENT
UID:5b595480-b029-11f0-aa5f-0ea9ff9373a9
DTSTAMP:20260420T095507Z
SUMMARY:Honor's Day Prek & Kinder
URL;VALUE=URI:https://www.colquitt.k12.ga.us/schools/odom/calendar/8744840/
 honors-day-prek-kinder
DTSTART;VALUE=DATE:20260518
DTEND;VALUE=DATE:20260519
END:VEVENT
END:VCALENDAR
