BEGIN:VCALENDAR
VERSION:2.0
PRODID:SchoolNow
CALSCALE:GREGORIAN
BEGIN:VEVENT
UID:5b595390-b029-11f0-96a0-0ea9ff9373a9
DTSTAMP:20260420T095507Z
SUMMARY:Easter Meal - 3rd grade parents
URL;VALUE=URI:https://www.colquitt.k12.ga.us/schools/odom/calendar/8744839/
 easter-meal-3rd-grade-parents
DTSTART;VALUE=DATE:20260402
DTEND;VALUE=DATE:20260403
END:VEVENT
END:VCALENDAR
