BEGIN:VCALENDAR
VERSION:2.0
PRODID:SchoolNow
CALSCALE:GREGORIAN
BEGIN:VEVENT
UID:5b5952b4-b029-11f0-abf6-0ea9ff9373a9
DTSTAMP:20260420T095507Z
SUMMARY:3rd grade lunch and learn
URL;VALUE=URI:https://www.colquitt.k12.ga.us/schools/odom/calendar/8744838/
 3rd-grade-lunch-and-learn
DTSTART;VALUE=DATE:20260402
DTEND;VALUE=DATE:20260403
END:VEVENT
END:VCALENDAR
