BEGIN:VCALENDAR
VERSION:2.0
PRODID:SchoolNow
CALSCALE:GREGORIAN
BEGIN:VEVENT
UID:5b5951ba-b029-11f0-925b-0ea9ff9373a9
DTSTAMP:20260420T095507Z
SUMMARY:Field Day Prek-2nd
URL;VALUE=URI:https://www.colquitt.k12.ga.us/schools/odom/calendar/8744837/
 field-day-prek-2nd
DTSTART;VALUE=DATE:20260331
DTEND;VALUE=DATE:20260401
END:VEVENT
END:VCALENDAR
