BEGIN:VCALENDAR
VERSION:2.0
PRODID:SchoolNow
CALSCALE:GREGORIAN
BEGIN:VEVENT
UID:5b594fe4-b029-11f0-ae79-0ea9ff9373a9
DTSTAMP:20260420T095507Z
SUMMARY:DQ & Skate Night
URL;VALUE=URI:https://www.colquitt.k12.ga.us/schools/odom/calendar/8744835/
 dq-skate-night
DTSTART;VALUE=DATE:20260326
DTEND;VALUE=DATE:20260327
END:VEVENT
END:VCALENDAR
