BEGIN:VCALENDAR
VERSION:2.0
PRODID:SchoolNow
CALSCALE:GREGORIAN
BEGIN:VEVENT
UID:5b594ef4-b029-11f0-acd0-0ea9ff9373a9
DTSTAMP:20260420T095507Z
SUMMARY:4th grade Lunch & Learn
URL;VALUE=URI:https://www.colquitt.k12.ga.us/schools/odom/calendar/8744834/
 4th-grade-lunch-learn
DTSTART;VALUE=DATE:20260317
DTEND;VALUE=DATE:20260318
END:VEVENT
END:VCALENDAR
