BEGIN:VCALENDAR
VERSION:2.0
PRODID:SchoolNow
CALSCALE:GREGORIAN
BEGIN:VEVENT
UID:5b594da0-b029-11f0-a8e6-0ea9ff9373a9
DTSTAMP:20260420T095507Z
SUMMARY:4th/5th grade Trip
URL;VALUE=URI:https://www.colquitt.k12.ga.us/schools/odom/calendar/8744833/
 4th-5th-grade-trip
DTSTART;VALUE=DATE:20260311
DTEND;VALUE=DATE:20260314
END:VEVENT
END:VCALENDAR
