BEGIN:VCALENDAR
VERSION:2.0
PRODID:SchoolNow
CALSCALE:GREGORIAN
BEGIN:VEVENT
UID:5b594bd4-b029-11f0-9004-0ea9ff9373a9
DTSTAMP:20260420T095507Z
SUMMARY:LSGT Mtg
URL;VALUE=URI:https://www.colquitt.k12.ga.us/schools/odom/calendar/8744831/
 lsgt-mtg
DTSTART;VALUE=DATE:20260227
DTEND;VALUE=DATE:20260228
END:VEVENT
END:VCALENDAR
