BEGIN:VCALENDAR
VERSION:2.0
PRODID:SchoolNow
CALSCALE:GREGORIAN
BEGIN:VEVENT
UID:5b594ae4-b029-11f0-9fd7-0ea9ff9373a9
DTSTAMP:20260420T095507Z
SUMMARY:2nd Lunch & Learn
URL;VALUE=URI:https://www.colquitt.k12.ga.us/schools/odom/calendar/8744830/
 2nd-lunch-learn
DTSTART;VALUE=DATE:20260213
DTEND;VALUE=DATE:20260214
END:VEVENT
END:VCALENDAR
