BEGIN:VCALENDAR
VERSION:2.0
PRODID:SchoolNow
CALSCALE:GREGORIAN
BEGIN:VEVENT
UID:5b5949ea-b029-11f0-a894-0ea9ff9373a9
DTSTAMP:20260420T095507Z
SUMMARY:LSGT mtg
URL;VALUE=URI:https://www.colquitt.k12.ga.us/schools/odom/calendar/8744829/
 lsgt-mtg
DTSTART;VALUE=DATE:20260123
DTEND;VALUE=DATE:20260124
END:VEVENT
END:VCALENDAR
