BEGIN:VCALENDAR
VERSION:2.0
PRODID:SchoolNow
CALSCALE:GREGORIAN
BEGIN:VEVENT
UID:5b5948dc-b029-11f0-862f-0ea9ff9373a9
DTSTAMP:20260420T095507Z
SUMMARY:Lunch & Learn Prek
URL;VALUE=URI:https://www.colquitt.k12.ga.us/schools/odom/calendar/8744828/
 lunch-learn-prek
DTSTART;VALUE=DATE:20260122
DTEND;VALUE=DATE:20260123
END:VEVENT
END:VCALENDAR
