BEGIN:VCALENDAR
VERSION:2.0
PRODID:SchoolNow
CALSCALE:GREGORIAN
BEGIN:VEVENT
UID:5b5947a6-b029-11f0-a206-0ea9ff9373a9
DTSTAMP:20260420T095507Z
SUMMARY:DQ & Skate Night
URL;VALUE=URI:https://www.colquitt.k12.ga.us/schools/odom/calendar/8744827/
 dq-skate-night
DTSTART;VALUE=DATE:20260115
DTEND;VALUE=DATE:20260116
END:VEVENT
END:VCALENDAR
