BEGIN:VCALENDAR
VERSION:2.0
PRODID:SchoolNow
CALSCALE:GREGORIAN
BEGIN:VEVENT
UID:7420c3aa-3729-11f0-8854-0a58a9feac02
DTSTAMP:20260420T095507Z
SUMMARY:Field Day 3rd-5th
URL;VALUE=URI:https://www.colquitt.k12.ga.us/schools/odom/calendar/8180827/
 field-day-3rd-5th
DTSTART;VALUE=DATE:20260401
DTEND;VALUE=DATE:20260402
END:VEVENT
END:VCALENDAR
