BEGIN:VCALENDAR
VERSION:2.0
PRODID:SchoolNow
CALSCALE:GREGORIAN
BEGIN:VEVENT
UID:7420c1d4-3729-11f0-a539-0a58a9feac02
DTSTAMP:20260420T095507Z
SUMMARY:Pastries with Parents
URL;VALUE=URI:https://www.colquitt.k12.ga.us/schools/odom/calendar/8180825/
 pastries-with-parents
DTSTART:20260226T133000Z
DTEND:20260226T143000Z
END:VEVENT
END:VCALENDAR
