BEGIN:VCALENDAR
VERSION:2.0
PRODID:SchoolNow
CALSCALE:GREGORIAN
BEGIN:VEVENT
UID:a13f1f00-1fa8-11f0-8d9f-0a58a9feac02
DTSTAMP:20260420T095507Z
SUMMARY:Spring Book Fair
URL;VALUE=URI:https://www.colquitt.k12.ga.us/schools/odom/calendar/7984855/
 spring-book-fair
DTSTART;VALUE=DATE:20260223
DTEND;VALUE=DATE:20260228
END:VEVENT
END:VCALENDAR
