BEGIN:VCALENDAR
VERSION:2.0
PRODID:SchoolNow
CALSCALE:GREGORIAN
BEGIN:VEVENT
UID:a13f1b90-1fa8-11f0-a3c7-0a58a9feac02
DTSTAMP:20260420T095507Z
SUMMARY:Last Day of School
URL;VALUE=URI:https://www.colquitt.k12.ga.us/schools/odom/calendar/7984851/
 last-day-of-school
DTSTART;VALUE=DATE:20260520
DTEND;VALUE=DATE:20260521
END:VEVENT
END:VCALENDAR
