BEGIN:VCALENDAR
VERSION:2.0
PRODID:SchoolNow
CALSCALE:GREGORIAN
BEGIN:VEVENT
UID:a13f1aaa-1fa8-11f0-bb47-0a58a9feac02
DTSTAMP:20260420T095507Z
SUMMARY:Memorial Day - Holiday (All Schools & Offices Closed)
URL;VALUE=URI:https://www.colquitt.k12.ga.us/schools/odom/calendar/7984850/
 memorial-day-holiday-all-schools-offices-closed
DTSTART;VALUE=DATE:20260525
DTEND;VALUE=DATE:20260526
END:VEVENT
END:VCALENDAR
