BEGIN:VCALENDAR
VERSION:2.0
PRODID:SchoolNow
CALSCALE:GREGORIAN
BEGIN:VEVENT
UID:a13f19ce-1fa8-11f0-8aaa-0a58a9feac02
DTSTAMP:20260420T095507Z
SUMMARY:Spring Break (All Schools & Offices Closed)
URL;VALUE=URI:https://www.colquitt.k12.ga.us/schools/odom/calendar/7984849/
 spring-break-all-schools-offices-closed
DTSTART;VALUE=DATE:20260406
DTEND;VALUE=DATE:20260411
END:VEVENT
END:VCALENDAR
