BEGIN:VCALENDAR
VERSION:2.0
PRODID:SchoolNow
CALSCALE:GREGORIAN
BEGIN:VEVENT
UID:a13f1816-1fa8-11f0-b7f8-0a58a9feac02
DTSTAMP:20260420T095507Z
SUMMARY:Spring Pictures
URL;VALUE=URI:https://www.colquitt.k12.ga.us/schools/odom/calendar/7984847/
 spring-pictures
DTSTART;VALUE=DATE:20260319
DTEND;VALUE=DATE:20260320
END:VEVENT
END:VCALENDAR
