BEGIN:VCALENDAR
VERSION:2.0
PRODID:SchoolNow
CALSCALE:GREGORIAN
BEGIN:VEVENT
UID:a13f173a-1fa8-11f0-90ce-0a58a9feac02
DTSTAMP:20260420T095507Z
SUMMARY:President's Day - Holiday (All Schools & Offices Closed)
URL;VALUE=URI:https://www.colquitt.k12.ga.us/schools/odom/calendar/7984846/
 presidents-day-holiday-all-schools-offices-closed
DTSTART;VALUE=DATE:20260216
DTEND;VALUE=DATE:20260217
END:VEVENT
END:VCALENDAR
