BEGIN:VCALENDAR
VERSION:2.0
PRODID:SchoolNow
CALSCALE:GREGORIAN
BEGIN:VEVENT
UID:a13f165e-1fa8-11f0-a463-0a58a9feac02
DTSTAMP:20260420T095507Z
SUMMARY:MLK Jr. Day - Holiday (All Schools & Offices Closed)
URL;VALUE=URI:https://www.colquitt.k12.ga.us/schools/odom/calendar/7984845/
 mlk-jr-day-holiday-all-schools-offices-closed
DTSTART;VALUE=DATE:20260119
DTEND;VALUE=DATE:20260120
END:VEVENT
END:VCALENDAR
