BEGIN:VCALENDAR
VERSION:2.0
PRODID:SchoolNow
CALSCALE:GREGORIAN
BEGIN:VEVENT
UID:a13f13c0-1fa8-11f0-8aae-0a58a9feac02
DTSTAMP:20260420T095507Z
SUMMARY:Christmas Holidays (All Schools & Offices Closed)
URL;VALUE=URI:https://www.colquitt.k12.ga.us/schools/odom/calendar/7984842/
 christmas-holidays-all-schools-offices-closed
DTSTART;VALUE=DATE:20251222
DTEND;VALUE=DATE:20260103
END:VEVENT
END:VCALENDAR
