BEGIN:VCALENDAR
VERSION:2.0
PRODID:SchoolNow
CALSCALE:GREGORIAN
BEGIN:VEVENT
UID:207a0bb6-dca3-11ea-9804-127f48c8fab3
DTSTAMP:20200812T135416Z
SUMMARY:Virtual Open House/Casa Abierta
URL;VALUE=URI:https://www.colquitt.k12.ga.us/schools/odom/calendar/2304762/
 virtual-open-house-casa-abierta
DTSTART;VALUE=DATE:20201001
DTEND;VALUE=DATE:20201002
END:VEVENT
END:VCALENDAR
