BEGIN:VCALENDAR
VERSION:2.0
PRODID:SchoolNow
CALSCALE:GREGORIAN
BEGIN:VEVENT
UID:1d26283e-d71a-11ea-b46d-1217cb73dde3
DTSTAMP:20200807T161417Z
SUMMARY:Principal's Letter
URL;VALUE=URI:https://www.colquitt.k12.ga.us/schools/odom/calendar/2299596/
 principals-letter
DTSTART:20200805T124800Z
DTEND:20200905T134800Z
ATTACH;FILENAME=Principal's Letter 8/4/20.pdf;FMTTYPE=application/pdf:https
 ://campussuite-storage.s3.amazonaws.com/prod/1559027/2cae00ac-8a5c-11ea-88
 6f-12f99fab7833/2138572/7821f980-d719-11ea-a03a-0aa43391b4a7/file/Principa
 l's Letter 8/4/20.pdf
END:VEVENT
END:VCALENDAR
