BEGIN:VCALENDAR
VERSION:2.0
PRODID:SchoolNow
CALSCALE:GREGORIAN
BEGIN:VEVENT
UID:57707d0c-13f3-11f1-b51d-0affd2000edd
DTSTAMP:20260421T025603Z
SUMMARY:Edible Book Fair
URL;VALUE=URI:https://www.colquitt.k12.ga.us/schools/gray/calendar/8876414/
 edible-book-fair
DTSTART:20260225T130000Z
DTEND:20260225T203000Z
END:VEVENT
END:VCALENDAR
