BEGIN:VCALENDAR
VERSION:2.0
PRODID:SchoolNow
CALSCALE:GREGORIAN
BEGIN:VEVENT
UID:577079b0-13f3-11f1-be70-0affd2000edd
DTSTAMP:20260421T025603Z
SUMMARY:Farm Day
URL;VALUE=URI:https://www.colquitt.k12.ga.us/schools/gray/calendar/8876412/
 farm-day
DTSTART;VALUE=DATE:20260227
DTEND;VALUE=DATE:20260228
END:VEVENT
END:VCALENDAR
