BEGIN:VCALENDAR
VERSION:2.0
PRODID:SchoolNow
CALSCALE:GREGORIAN
BEGIN:VEVENT
UID:57707870-13f3-11f1-94cd-0affd2000edd
DTSTAMP:20260421T025603Z
SUMMARY:EOG Makeups
URL;VALUE=URI:https://www.colquitt.k12.ga.us/schools/gray/calendar/8876411/
 eog-makeups
DTSTART;VALUE=DATE:20260427
DTEND;VALUE=DATE:20260428
END:VEVENT
END:VCALENDAR
